BEGIN:VCALENDAR
PRODID:-//punkave//apostrophe 1.x//EN
VERSION:1.0
TZ:0
BEGIN:VEVENT
CATEGORIES:MEETING
DTSTART:20140217T050000Z
DTEND:20140219T175959Z
DTSTAMP:20130711T054136Z
SUMMARY:Presidents Day: SCHOOL CLOSED
DESCRIPTION:ADM CLOSED.
LOCATION:
UID:1585
END:VEVENT
END:VCALENDAR