BEGIN:VCALENDAR
PRODID:-//punkave//apostrophe 1.x//EN
VERSION:1.0
TZ:0
BEGIN:VEVENT
CATEGORIES:MEETING
DTSTART:20140219T131500Z
DTEND:20140219T141500Z
DTSTAMP:20130712T002700Z
SUMMARY:Coffee with Jean Prestas
DESCRIPTION:Primary Parents coffee with Jean Prestas.
LOCATION:
UID:1589
END:VEVENT
END:VCALENDAR