BEGIN:VCALENDAR
PRODID:-//punkave//apostrophe 1.x//EN
VERSION:1.0
TZ:0
BEGIN:VEVENT
CATEGORIES:MEETING
DTSTART:20140219T220000Z
DTEND:20140219T230000Z
DTSTAMP:20130712T001603Z
SUMMARY:Toddler House Parent/Child Visit
DESCRIPTION:Wednesday or Thursday, 2/19 and 2/20, Toddlers can bring their parents to class and show off their work! We will contact you to schedule your visit day.
LOCATION:
UID:1587
END:VEVENT
END:VCALENDAR