BEGIN:VCALENDAR
PRODID:-//punkave//apostrophe 1.x//EN
VERSION:1.0
TZ:0
BEGIN:VEVENT
CATEGORIES:MEETING
DTSTART:20140220T131500Z
DTEND:20140220T140000Z
DTSTAMP:20130712T003130Z
SUMMARY:Coffee with Neepa Dhar
DESCRIPTION:Primary parents coffee with Neepa Dhar.
LOCATION:
UID:1590
END:VEVENT
END:VCALENDAR