BEGIN:VCALENDAR
PRODID:-//punkave//apostrophe 1.x//EN
VERSION:1.0
TZ:0
BEGIN:VEVENT
CATEGORIES:MEETING
DTSTART:20140220T220000Z
DTEND:20140220T230000Z
DTSTAMP:20130712T002200Z
SUMMARY:Toddler House Parent/Child Visit
DESCRIPTION:Wednesday or Thursday, 2/19 and 2/20, Toddlers can bring their parents to class and show off their work! We will contact you to schedule your visit date.
LOCATION:
UID:1588
END:VEVENT
END:VCALENDAR