BEGIN:VCALENDAR
PRODID:-//punkave//apostrophe 1.x//EN
VERSION:1.0
TZ:0
BEGIN:VEVENT
CATEGORIES:MEETING
DTSTART:20140225T223000Z
DTEND:20140225T233000Z
DTSTAMP:20130712T003400Z
SUMMARY:Applying to First Grade Workshop
DESCRIPTION:Parent Education night with a panel that helps next year\'s K parents look to applying for First Grade. To RSVP: www.SignUpGenius.com/go/8050B49AFAE28A13-applying
LOCATION:
UID:1591
END:VEVENT
END:VCALENDAR