BEGIN:VCALENDAR
PRODID:-//punkave//apostrophe 1.x//EN
VERSION:1.0
TZ:0
BEGIN:VEVENT
CATEGORIES:MEETING
DTSTART:20140225T131500Z
DTEND:20140225T141500Z
DTSTAMP:20130711T054800Z
SUMMARY:Coffee with Anna Matsukevich
DESCRIPTION:Primary Parents coffee with Anna Matsukevich.
LOCATION:
UID:1586
END:VEVENT
END:VCALENDAR