BEGIN:VCALENDAR
PRODID:-//punkave//apostrophe 1.x//EN
VERSION:1.0
TZ:0
BEGIN:VEVENT
CATEGORIES:MEETING
DTSTART:20140226T131500Z
DTEND:20140226T140000Z
DTSTAMP:20130712T044314Z
SUMMARY:Coffee with Michelle Pysher
DESCRIPTION:Primary parents coffee with Michelle Pysher.
LOCATION:
UID:1597
END:VEVENT
END:VCALENDAR