BEGIN:VCALENDAR
PRODID:-//punkave//apostrophe 1.x//EN
VERSION:1.0
TZ:0
BEGIN:VEVENT
CATEGORIES:MEETING
DTSTART:20140227T131500Z
DTEND:20140227T140000Z
DTSTAMP:20130712T004924Z
SUMMARY:Coffee with Aurelien Dumas
DESCRIPTION:Primary parents coffee with Aurelien Dumas
LOCATION:
UID:1594
END:VEVENT
END:VCALENDAR