BEGIN:VCALENDAR
PRODID:-//punkave//apostrophe 1.x//EN
VERSION:1.0
TZ:0
BEGIN:VEVENT
CATEGORIES:MEETING
DTSTART:20140228T050000Z
DTEND:20140302T175959Z
DTSTAMP:20130712T004500Z
SUMMARY:Kindergarten Lunch Around the World: Vietnamese
DESCRIPTION:No lunch needed for K students today.
LOCATION:
UID:1593
END:VEVENT
END:VCALENDAR