BEGIN:VCALENDAR
PRODID:-//punkave//apostrophe 1.x//EN
VERSION:1.0
TZ:0
BEGIN:VEVENT
CATEGORIES:MEETING
DTSTART:20140304T131500Z
DTEND:20140304T140000Z
DTSTAMP:20140226T055000Z
SUMMARY:Coffee with Jen Wollman
DESCRIPTION:Toddler parents coffee with Jen Wollman *RESCHEDULED*
LOCATION:
UID:1863
END:VEVENT
END:VCALENDAR