BEGIN:VCALENDAR
PRODID:-//punkave//apostrophe 1.x//EN
VERSION:1.0
TZ:0
BEGIN:VEVENT
CATEGORIES:MEETING
DTSTART:20140306T131500Z
DTEND:20140306T140000Z
DTSTAMP:20130712T043600Z
SUMMARY:1st Thursday Coffee Parent Workshop: Positive Parenting
DESCRIPTION:Positive Parenting Techniques with Stephen Soffer, PhD Are you frustrated with disobedience from your children? Do you feel you have to ask them to do one task multiple times? Are you tired of reprimanding your children for the same offenses time and and time again? Join us for a morning session with Dr. Stephen Soffer and learn a new approach for soliciting desired behaviors from our children. Dr. Soffer will discuss techniques of positive reinforcement we can implement into our normal routines that will positively affect the response from children.
LOCATION:
UID:1595
END:VEVENT
END:VCALENDAR