BEGIN:VCALENDAR
PRODID:-//punkave//apostrophe 1.x//EN
VERSION:1.0
TZ:0
BEGIN:VEVENT
CATEGORIES:MEETING
DTSTART:20140307T230000Z
DTEND:20140308T020000Z
DTSTAMP:20130712T043922Z
SUMMARY:Greene Towne School Annual Live and Silent Auction
DESCRIPTION:
LOCATION:
UID:1596
END:VEVENT
END:VCALENDAR