BEGIN:VCALENDAR
PRODID:-//punkave//apostrophe 1.x//EN
VERSION:1.0
TZ:0
BEGIN:VEVENT
CATEGORIES:MEETING
DTSTART:20140310T040000Z
DTEND:20140419T165959Z
DTSTAMP:20130712T045500Z
SUMMARY:Parent Observations
DESCRIPTION:Sign up for observations by calling or stopping by the office.
LOCATION:
UID:1598
END:VEVENT
END:VCALENDAR