BEGIN:VCALENDAR
PRODID:-//punkave//apostrophe 1.x//EN
VERSION:1.0
TZ:0
BEGIN:VEVENT
CATEGORIES:MEETING
DTSTART:20140314T040000Z
DTEND:20140316T165959Z
DTSTAMP:20130712T045821Z
SUMMARY:Staff In-Service: SCHOOL CLOSED
DESCRIPTION:ADM in Session.
LOCATION:
UID:1599
END:VEVENT
END:VCALENDAR