BEGIN:VCALENDAR
PRODID:-//punkave//apostrophe 1.x//EN
VERSION:1.0
TZ:0
BEGIN:VEVENT
CATEGORIES:MEETING
DTSTART:20140318T223000Z
DTEND:20140319T000000Z
DTSTAMP:20130712T050021Z
SUMMARY:Admissions Open House
DESCRIPTION:
LOCATION:
UID:1600
END:VEVENT
END:VCALENDAR