BEGIN:VCALENDAR
PRODID:-//punkave//apostrophe 1.x//EN
VERSION:1.0
TZ:0
BEGIN:VEVENT
CATEGORIES:MEETING
DTSTART:20140320T130000Z
DTEND:20140320T160000Z
DTSTAMP:20140222T042800Z
SUMMARY:K Field Trip
DESCRIPTION:This is a rescheduled trip!
LOCATION:
UID:1862
END:VEVENT
END:VCALENDAR