BEGIN:VCALENDAR
PRODID:-//punkave//apostrophe 1.x//EN
VERSION:1.0
TZ:0
BEGIN:VEVENT
CATEGORIES:MEETING
DTSTART:20140321T040000Z
DTEND:20140323T165959Z
DTSTAMP:20130712T050200Z
SUMMARY:Kindergarten Lunch Around the World: Kansas City BBQ
DESCRIPTION:K students do not need to bring lunch on this day.
LOCATION:
UID:1601
END:VEVENT
END:VCALENDAR