BEGIN:VCALENDAR
PRODID:-//punkave//apostrophe 1.x//EN
VERSION:1.0
TZ:0
BEGIN:VEVENT
CATEGORIES:MEETING
DTSTART:20140324T040000Z
DTEND:20140330T165959Z
DTSTAMP:20130712T050448Z
SUMMARY:Spring Break: SCHOOL CLOSED
DESCRIPTION:ADM in session.
LOCATION:
UID:1602
END:VEVENT
END:VCALENDAR