BEGIN:VCALENDAR
PRODID:-//punkave//apostrophe 1.x//EN
VERSION:1.0
TZ:0
BEGIN:VEVENT
CATEGORIES:MEETING
DTSTART:20140331T040000Z
DTEND:20140402T165959Z
DTSTAMP:20130712T050618Z
SUMMARY:Classes Resume
DESCRIPTION:Classes resume for all students.
LOCATION:
UID:1603
END:VEVENT
END:VCALENDAR