BEGIN:VCALENDAR
PRODID:-//punkave//apostrophe 1.x//EN
VERSION:1.0
TZ:0
BEGIN:VEVENT
CATEGORIES:MEETING
DTSTART:20140331T130000Z
DTEND:20140331T150000Z
DTSTAMP:20140306T055953Z
SUMMARY:K Field Trip
DESCRIPTION:
LOCATION:
UID:1879
END:VEVENT
END:VCALENDAR