BEGIN:VCALENDAR
PRODID:-//punkave//apostrophe 1.x//EN
VERSION:1.0
TZ:0
BEGIN:VEVENT
CATEGORIES:MEETING
DTSTART:20140403T121500Z
DTEND:20140403T130000Z
DTSTAMP:20130712T050700Z
SUMMARY:1st Thursday Coffee: Nutrition and Eating Habits
DESCRIPTION:Join us for a session on nutritional health and eating behaviors of young children with Rachel Lenhoff, clinical dietician at CHOP.
LOCATION:
UID:1604
END:VEVENT
END:VCALENDAR