BEGIN:VCALENDAR
PRODID:-//punkave//apostrophe 1.x//EN
VERSION:1.0
TZ:0
BEGIN:VEVENT
CATEGORIES:MEETING
DTSTART:20140407T040000Z
DTEND:20140409T165959Z
DTSTAMP:20130712T051120Z
SUMMARY:Veteran\'s Collection Begins
DESCRIPTION:
LOCATION:
UID:1606
END:VEVENT
END:VCALENDAR