BEGIN:VCALENDAR
PRODID:-//punkave//apostrophe 1.x//EN
VERSION:1.0
TZ:0
BEGIN:VEVENT
CATEGORIES:MEETING
DTSTART:20140411T040000Z
DTEND:20140413T165959Z
DTSTAMP:20130712T051238Z
SUMMARY:Parent/Teacher Conferences: SCHOOL CLOSED
DESCRIPTION:ADM in session.
LOCATION:
UID:1607
END:VEVENT
END:VCALENDAR