BEGIN:VCALENDAR
PRODID:-//punkave//apostrophe 1.x//EN
VERSION:1.0
TZ:0
BEGIN:VEVENT
CATEGORIES:MEETING
DTSTART:20140418T040000Z
DTEND:20140420T165959Z
DTSTAMP:20130712T051500Z
SUMMARY:Staff In-Service: 11:45 DISMISSAL
DESCRIPTION:ADM in session
LOCATION:
UID:1608
END:VEVENT
END:VCALENDAR