BEGIN:VCALENDAR
PRODID:-//punkave//apostrophe 1.x//EN
VERSION:1.0
TZ:0
BEGIN:VEVENT
CATEGORIES:MEETING
DTSTART:20140421T040000Z
DTEND:20140427T165959Z
DTSTAMP:20130712T051734Z
SUMMARY:GTMS Earth Week
DESCRIPTION:
LOCATION:
UID:1609
END:VEVENT
END:VCALENDAR