BEGIN:VCALENDAR
PRODID:-//punkave//apostrophe 1.x//EN
VERSION:1.0
TZ:0
BEGIN:VEVENT
CATEGORIES:MEETING
DTSTART:20140423T223000Z
DTEND:20140424T003000Z
DTSTAMP:20131016T010000Z
SUMMARY:Parent Education Workshop: Marjorie DelBello
DESCRIPTION:Subject: Parents of Happy High Achievers RSVP Here!
LOCATION:
UID:1728
END:VEVENT
END:VCALENDAR