BEGIN:VCALENDAR
PRODID:-//punkave//apostrophe 1.x//EN
VERSION:1.0
TZ:0
BEGIN:VEVENT
CATEGORIES:MEETING
DTSTART:20140425T040000Z
DTEND:20140427T165959Z
DTSTAMP:20130712T051900Z
SUMMARY:Kindergarten Lunch Around the World: England
DESCRIPTION:K students do not need to bring a lunch this day.
LOCATION:
UID:1610
END:VEVENT
END:VCALENDAR