BEGIN:VCALENDAR
PRODID:-//punkave//apostrophe 1.x//EN
VERSION:1.0
TZ:0
BEGIN:VEVENT
CATEGORIES:MEETING
DTSTART:20140427T040000Z
DTEND:20140504T165959Z
DTSTAMP:20130712T052145Z
SUMMARY:Screen Free Week
DESCRIPTION:
LOCATION:
UID:1611
END:VEVENT
END:VCALENDAR