BEGIN:VCALENDAR
PRODID:-//punkave//apostrophe 1.x//EN
VERSION:1.0
TZ:0
BEGIN:VEVENT
CATEGORIES:MEETING
DTSTART:20140501T121500Z
DTEND:20140501T130000Z
DTSTAMP:20130713T040900Z
SUMMARY:1st Thursday Coffee: Talking to Your Kids About Difficult Topics
DESCRIPTION:Please join us for a session on ways to navigate such topics with Stephanie Drabble, a child/family therapist from the child and adolescent psychiatry center at CHOP.
LOCATION:
UID:1613
END:VEVENT
END:VCALENDAR