BEGIN:VCALENDAR
PRODID:-//punkave//apostrophe 1.x//EN
VERSION:1.0
TZ:0
BEGIN:VEVENT
CATEGORIES:MEETING
DTSTART:20140503T150000Z
DTEND:20140503T180000Z
DTSTAMP:20130713T041200Z
SUMMARY:Spring Family Picnic
DESCRIPTION:Picnic rain date, May 17th.
LOCATION:
UID:1614
END:VEVENT
END:VCALENDAR