BEGIN:VCALENDAR
PRODID:-//punkave//apostrophe 1.x//EN
VERSION:1.0
TZ:0
BEGIN:VEVENT
CATEGORIES:MEETING
DTSTART:20140506T121500Z
DTEND:20140506T130000Z
DTSTAMP:20130713T041458Z
SUMMARY:Next Year\'s Kindergarten Parents Orientation Coffee
DESCRIPTION:Orientation Coffee for next year\'s K parents.
LOCATION:
UID:1615
END:VEVENT
END:VCALENDAR