BEGIN:VCALENDAR
PRODID:-//punkave//apostrophe 1.x//EN
VERSION:1.0
TZ:0
BEGIN:VEVENT
CATEGORIES:MEETING
DTSTART:20140509T040000Z
DTEND:20140511T165959Z
DTSTAMP:20130713T041729Z
SUMMARY:Grandparent and Special Friends Day
DESCRIPTION:This is a primary only event. Invitations and RSVPs/Change of Dismissals will be sent out.
LOCATION:
UID:1616
END:VEVENT
END:VCALENDAR