BEGIN:VCALENDAR
PRODID:-//punkave//apostrophe 1.x//EN
VERSION:1.0
TZ:0
BEGIN:VEVENT
CATEGORIES:MEETING
DTSTART:20140512T220000Z
DTEND:20140513T000000Z
DTSTAMP:20130713T042400Z
SUMMARY:Board Meeting
DESCRIPTION:
LOCATION:
UID:1617
END:VEVENT
END:VCALENDAR