BEGIN:VCALENDAR
PRODID:-//punkave//apostrophe 1.x//EN
VERSION:1.0
TZ:0
BEGIN:VEVENT
CATEGORIES:MEETING
DTSTART:20140522T210000Z
DTEND:20140522T230000Z
DTSTAMP:20130713T043108Z
SUMMARY:Board/Staff Party
DESCRIPTION:ADM DISMISSAL at 5pm.
LOCATION:
UID:1619
END:VEVENT
END:VCALENDAR