BEGIN:VCALENDAR
PRODID:-//punkave//apostrophe 1.x//EN
VERSION:1.0
TZ:0
BEGIN:VEVENT
CATEGORIES:MEETING
DTSTART:20140523T040000Z
DTEND:20140525T165959Z
DTSTAMP:20130713T043958Z
SUMMARY:Staff In-Service: 11:45 DISMISSAL
DESCRIPTION:ADM in session.
LOCATION:
UID:1620
END:VEVENT
END:VCALENDAR