BEGIN:VCALENDAR
PRODID:-//punkave//apostrophe 1.x//EN
VERSION:1.0
TZ:0
BEGIN:VEVENT
CATEGORIES:MEETING
DTSTART:20140526T040000Z
DTEND:20140528T165959Z
DTSTAMP:20130713T044126Z
SUMMARY:Memorial Day: SCHOOL CLOSED
DESCRIPTION:ADM closed.
LOCATION:
UID:1621
END:VEVENT
END:VCALENDAR