BEGIN:VCALENDAR
PRODID:-//punkave//apostrophe 1.x//EN
VERSION:1.0
TZ:0
BEGIN:VEVENT
CATEGORIES:MEETING
DTSTART:20140528T040000Z
DTEND:20140531T165959Z
DTSTAMP:20130713T050000Z
SUMMARY:Lemonade Stand and Bake Sale
DESCRIPTION:The Kindergarten students will be having a lemonade stand/bake sale at the 11:45 and 2:45 dismissals on 5/28 and 5/29.
LOCATION:
UID:1622
END:VEVENT
END:VCALENDAR