BEGIN:VCALENDAR
PRODID:-//punkave//apostrophe 1.x//EN
VERSION:1.0
TZ:0
BEGIN:VEVENT
CATEGORIES:MEETING
DTSTART:20140530T040000Z
DTEND:20140601T165959Z
DTSTAMP:20130713T050100Z
SUMMARY:Kindergarten Lunch Around the World: Armenian
DESCRIPTION:K students do not need to bring a lunch on this day.
LOCATION:
UID:1623
END:VEVENT
END:VCALENDAR