BEGIN:VCALENDAR
PRODID:-//punkave//apostrophe 1.x//EN
VERSION:1.0
TZ:0
BEGIN:VEVENT
CATEGORIES:MEETING
DTSTART:20140604T213000Z
DTEND:20140604T223000Z
DTSTAMP:20130713T050318Z
SUMMARY:Toddler House Ice Cream Social
DESCRIPTION:For GTMS Toddler Families!
LOCATION:
UID:1624
END:VEVENT
END:VCALENDAR