BEGIN:VCALENDAR
PRODID:-//punkave//apostrophe 1.x//EN
VERSION:1.0
TZ:0
BEGIN:VEVENT
CATEGORIES:MEETING
DTSTART:20140605T040000Z
DTEND:20140607T165959Z
DTSTAMP:20140527T213324Z
SUMMARY:Last Day of School for WEST STUDENTS
DESCRIPTION:This will be the last day of school for all GTMS WEST students- All Day Montessori Primary and Toddler, as well as AM/PM Toddler. This will be a regular full day, but there will be NO SCHOOL for the GTMS WEST students on Friday, June 6.
LOCATION:GTMS West
UID:1941
END:VEVENT
END:VCALENDAR