BEGIN:VCALENDAR
PRODID:-//punkave//apostrophe 1.x//EN
VERSION:1.0
TZ:0
BEGIN:VEVENT
CATEGORIES:MEETING
DTSTART:20140609T220000Z
DTEND:20140610T000000Z
DTSTAMP:20130713T051236Z
SUMMARY:Board Meeting
DESCRIPTION:
LOCATION:
UID:1627
END:VEVENT
END:VCALENDAR