BEGIN:VCALENDAR
PRODID:-//punkave//apostrophe 1.x//EN
VERSION:1.0
TZ:0
BEGIN:VEVENT
CATEGORIES:MEETING
DTSTART:20140609T040000Z
DTEND:20140611T165959Z
DTSTAMP:20130713T051020Z
SUMMARY:GTMS Family Day at Sesame Place
DESCRIPTION:
LOCATION:
UID:1626
END:VEVENT
END:VCALENDAR