BEGIN:VCALENDAR
PRODID:-//punkave//apostrophe 1.x//EN
VERSION:1.0
TZ:0
BEGIN:VEVENT
CATEGORIES:MEETING
DTSTART:20140609T040000Z
DTEND:20140615T165959Z
DTSTAMP:20130713T051456Z
SUMMARY:Summer Bridge Camp
DESCRIPTION:All year ADM in session all week.
LOCATION:
UID:1629
END:VEVENT
END:VCALENDAR