BEGIN:VCALENDAR
PRODID:-//punkave//apostrophe 1.x//EN
VERSION:1.0
TZ:0
BEGIN:VEVENT
CATEGORIES:MEETING
DTSTART:20140616T040000Z
DTEND:20140618T165959Z
DTSTAMP:20130713T051338Z
SUMMARY:First Day of Camp
DESCRIPTION:
LOCATION:
UID:1628
END:VEVENT
END:VCALENDAR