BEGIN:VCALENDAR
PRODID:-//punkave//apostrophe 1.x//EN
VERSION:1.0
TZ:0
BEGIN:VEVENT
CATEGORIES:MEETING
DTSTART:20140618T220000Z
DTEND:20140618T230000Z
DTSTAMP:20130713T042500Z
SUMMARY:New Parent Social
DESCRIPTION:
LOCATION:
UID:1618
END:VEVENT
END:VCALENDAR