BEGIN:VCALENDAR
PRODID:-//punkave//apostrophe 1.x//EN
VERSION:1.0
TZ:0
BEGIN:VEVENT
CATEGORIES:MEETING
DTSTART:20140704T040000Z
DTEND:20140706T165959Z
DTSTAMP:20130713T051630Z
SUMMARY:Independence Day: CAMP CLOSED
DESCRIPTION:ADM closed.
LOCATION:
UID:1630
END:VEVENT
END:VCALENDAR