BEGIN:VCALENDAR
PRODID:-//punkave//apostrophe 1.x//EN
VERSION:1.0
TZ:0
BEGIN:VEVENT
CATEGORIES:MEETING
DTSTART:20140715T210000Z
DTEND:20140715T220000Z
DTSTAMP:20130713T051700Z
SUMMARY:New Toddler Playdate
DESCRIPTION:
LOCATION:
UID:1631
END:VEVENT
END:VCALENDAR