BEGIN:VCALENDAR
PRODID:-//punkave//apostrophe 1.x//EN
VERSION:1.0
TZ:0
BEGIN:VEVENT
CATEGORIES:MEETING
DTSTART:20140723T210000Z
DTEND:20140723T220000Z
DTSTAMP:20130713T051800Z
SUMMARY:New Toddler Playdate
DESCRIPTION:
LOCATION:
UID:1632
END:VEVENT
END:VCALENDAR