BEGIN:VCALENDAR
PRODID:-//punkave//apostrophe 1.x//EN
VERSION:1.0
TZ:0
BEGIN:VEVENT
CATEGORIES:MEETING
DTSTART:20140811T213000Z
DTEND:20140811T223000Z
DTSTAMP:20130713T052101Z
SUMMARY:Board Meeting
DESCRIPTION:
LOCATION:
UID:1634
END:VEVENT
END:VCALENDAR